BEGIN:VCALENDAR
VERSION:2.0
PRODID:-//Big Alum Lake Association - ECPv6.15.14//NONSGML v1.0//EN
CALSCALE:GREGORIAN
METHOD:PUBLISH
X-ORIGINAL-URL:https://bigalumlake.org
X-WR-CALDESC:Events for Big Alum Lake Association
REFRESH-INTERVAL;VALUE=DURATION:PT1H
X-Robots-Tag:noindex
X-PUBLISHED-TTL:PT1H
BEGIN:VTIMEZONE
TZID:America/New_York
BEGIN:DAYLIGHT
TZOFFSETFROM:-0500
TZOFFSETTO:-0400
TZNAME:EDT
DTSTART:20250309T070000
END:DAYLIGHT
BEGIN:STANDARD
TZOFFSETFROM:-0400
TZOFFSETTO:-0500
TZNAME:EST
DTSTART:20251102T060000
END:STANDARD
BEGIN:DAYLIGHT
TZOFFSETFROM:-0500
TZOFFSETTO:-0400
TZNAME:EDT
DTSTART:20260308T070000
END:DAYLIGHT
BEGIN:STANDARD
TZOFFSETFROM:-0400
TZOFFSETTO:-0500
TZNAME:EST
DTSTART:20261101T060000
END:STANDARD
BEGIN:DAYLIGHT
TZOFFSETFROM:-0500
TZOFFSETTO:-0400
TZNAME:EDT
DTSTART:20270314T070000
END:DAYLIGHT
BEGIN:STANDARD
TZOFFSETFROM:-0400
TZOFFSETTO:-0500
TZNAME:EST
DTSTART:20271107T060000
END:STANDARD
END:VTIMEZONE
BEGIN:VEVENT
DTSTART;TZID=America/New_York:20260711T100000
DTEND;TZID=America/New_York:20260711T120000
DTSTAMP:20260420T160904
CREATED:20240718T095216Z
LAST-MODIFIED:20260327T143009Z
UID:8792-1783764000-1783771200@bigalumlake.org
SUMMARY:Big Alum Lake "ONE and ONLY" Scheduled Membership Meeting
DESCRIPTION:Big Alum Lake “ONE and ONLY” Scheduled Membership Meeting \nSaturday\, July 11th\, 2026 \n@ 10 am \nSt. Anne’s Outdoor Pavilion
URL:https://bigalumlake.org/event/big-alum-lake-one-and-only-scheduled-membership-meeting/
LOCATION:St Annes Church Outside Pavillion\, Fiskdale\, MA\, 01518\, United States
ATTACH;FMTTYPE=image/jpeg:https://bigalumlake.org/wp-content/uploads/IMG_8230-1.jpg
END:VEVENT
END:VCALENDAR