BEGIN:VCALENDAR
VERSION:2.0
PRODID:-//Big Alum Lake Association - ECPv6.15.14//NONSGML v1.0//EN
CALSCALE:GREGORIAN
METHOD:PUBLISH
X-WR-CALNAME:Big Alum Lake Association
X-ORIGINAL-URL:https://bigalumlake.org
X-WR-CALDESC:Events for Big Alum Lake Association
REFRESH-INTERVAL;VALUE=DURATION:PT1H
X-Robots-Tag:noindex
X-PUBLISHED-TTL:PT1H
BEGIN:VTIMEZONE
TZID:America/New_York
BEGIN:DAYLIGHT
TZOFFSETFROM:-0500
TZOFFSETTO:-0400
TZNAME:EDT
DTSTART:20250309T070000
END:DAYLIGHT
BEGIN:STANDARD
TZOFFSETFROM:-0400
TZOFFSETTO:-0500
TZNAME:EST
DTSTART:20251102T060000
END:STANDARD
BEGIN:DAYLIGHT
TZOFFSETFROM:-0500
TZOFFSETTO:-0400
TZNAME:EDT
DTSTART:20260308T070000
END:DAYLIGHT
BEGIN:STANDARD
TZOFFSETFROM:-0400
TZOFFSETTO:-0500
TZNAME:EST
DTSTART:20261101T060000
END:STANDARD
BEGIN:DAYLIGHT
TZOFFSETFROM:-0500
TZOFFSETTO:-0400
TZNAME:EDT
DTSTART:20270314T070000
END:DAYLIGHT
BEGIN:STANDARD
TZOFFSETFROM:-0400
TZOFFSETTO:-0500
TZNAME:EST
DTSTART:20271107T060000
END:STANDARD
END:VTIMEZONE
BEGIN:VEVENT
DTSTART;TZID=America/New_York:20260731T173000
DTEND;TZID=America/New_York:20260731T203000
DTSTAMP:20260420T160843
CREATED:20250802T203040Z
LAST-MODIFIED:20260327T142419Z
UID:8817-1785519000-1785529800@bigalumlake.org
SUMMARY:BALA GALA Potential Date\, 7/31/2026
DESCRIPTION:“BALA GALA” Potential Date\, 7/31/2026 \n  \nWe hope to see many of you at this year’s BALA GALA—it’s sure to be a fantastic night full of fun\, laughter\, and great company. \nPlease take a moment to open and print the attached invitation so you don’t miss out on all the festivities. \n  \nStay cool and enjoy every minute of this summer sunshine! \n\n\n\n\n\nAll Our Best\,\n Your BALA Board 
URL:https://bigalumlake.org/event/potential-bala-gala-date/
ATTACH;FMTTYPE=image/jpeg:https://bigalumlake.org/wp-content/uploads/BH13.jpg
END:VEVENT
END:VCALENDAR