BEGIN:VCALENDAR
VERSION:2.0
PRODID:-//Big Alum Lake Association - ECPv6.15.14//NONSGML v1.0//EN
CALSCALE:GREGORIAN
METHOD:PUBLISH
X-WR-CALNAME:Big Alum Lake Association
X-ORIGINAL-URL:https://bigalumlake.org
X-WR-CALDESC:Events for Big Alum Lake Association
REFRESH-INTERVAL;VALUE=DURATION:PT1H
X-Robots-Tag:noindex
X-PUBLISHED-TTL:PT1H
BEGIN:VTIMEZONE
TZID:America/New_York
BEGIN:DAYLIGHT
TZOFFSETFROM:-0500
TZOFFSETTO:-0400
TZNAME:EDT
DTSTART:20230312T070000
END:DAYLIGHT
BEGIN:STANDARD
TZOFFSETFROM:-0400
TZOFFSETTO:-0500
TZNAME:EST
DTSTART:20231105T060000
END:STANDARD
BEGIN:DAYLIGHT
TZOFFSETFROM:-0500
TZOFFSETTO:-0400
TZNAME:EDT
DTSTART:20240310T070000
END:DAYLIGHT
BEGIN:STANDARD
TZOFFSETFROM:-0400
TZOFFSETTO:-0500
TZNAME:EST
DTSTART:20241103T060000
END:STANDARD
BEGIN:DAYLIGHT
TZOFFSETFROM:-0500
TZOFFSETTO:-0400
TZNAME:EDT
DTSTART:20250309T070000
END:DAYLIGHT
BEGIN:STANDARD
TZOFFSETFROM:-0400
TZOFFSETTO:-0500
TZNAME:EST
DTSTART:20251102T060000
END:STANDARD
BEGIN:DAYLIGHT
TZOFFSETFROM:-0500
TZOFFSETTO:-0400
TZNAME:EDT
DTSTART:20260308T070000
END:DAYLIGHT
BEGIN:STANDARD
TZOFFSETFROM:-0400
TZOFFSETTO:-0500
TZNAME:EST
DTSTART:20261101T060000
END:STANDARD
END:VTIMEZONE
BEGIN:VEVENT
DTSTART;TZID=America/New_York:20250724T183000
DTEND;TZID=America/New_York:20250724T200000
DTSTAMP:20260421T002315
CREATED:20250724T223050Z
LAST-MODIFIED:20250712T141345Z
UID:9333-1753381800-1753387200@bigalumlake.org
SUMMARY:BALA "Boat\, What Not" Tie Up! Let's Meet In the Middle!
DESCRIPTION:Big Alum Lake\, \n“Tie-Up” in the Middle of the Lake with whatever you have…\nBoat\, PWC\, Kayak\, Plane…. \n  \nCome one\, Come all….we would love to see you all… \nDates: June 19th & July 24th…
URL:https://bigalumlake.org/event/bala-boat-what-not-tie-up-2/
END:VEVENT
BEGIN:VEVENT
DTSTART;TZID=America/New_York:20250724T183000
DTEND;TZID=America/New_York:20250724T200000
DTSTAMP:20260421T002315
CREATED:20250513T223719Z
LAST-MODIFIED:20250712T141508Z
UID:9331-1753381800-1753387200@bigalumlake.org
SUMMARY:BALA "Boat\, What Not" Tie Up! Let's Meet In The Middle!
DESCRIPTION:Big Alum Lake\, \n“Tie-Up” in the Middle of the Lake with whatever you have…\nBoat\, PWC\, Kayak\, Plane…. \n  \nCome one\, Come all….we would love to see you all… \nDates: June 19th & July 24th…
URL:https://bigalumlake.org/event/bala-boat-what-not-tie-up/
END:VEVENT
BEGIN:VEVENT
DTSTART;VALUE=DATE:20250713
DTEND;VALUE=DATE:20250714
DTSTAMP:20260421T002315
CREATED:20250513T223002Z
LAST-MODIFIED:20250520T150827Z
UID:9323-1752364800-1752451199@bigalumlake.org
SUMMARY:BALA - Big Alum Lake Cheers 2025 - Rain Date
DESCRIPTION:Big Alum Lake Cheers 2025?\nThink “tie-up”\nBut with a social twist – and prizes! \n  \nHow do I register?\nThe cost to register is $40 PER BOAT. Number of people per boat does not matter. The more people\, the more fun! Dog and kid friendly. Designate a boat team captain and email BigAlumLakeCheers@gmail.com with your captain’s name by June 23 . Mail check payment (Made out to Big Alum Lake Association) to Mari Roy (34 Stoneybrook Road\, Charlton\, MA 01507). If you’d prefer to pay electronically\, you can send registration fee to @RyanSzat1 on Venmo and the money will be transferred to Mari. This event is limited to 20 boats\, so register early! Payment must be made to secure your spot.
URL:https://bigalumlake.org/event/bala-big-alum-lake-cheers-2025/
LOCATION:Big Alum Lake
ATTACH;FMTTYPE=image/jpeg:https://bigalumlake.org/wp-content/uploads/Lake-Cheers-Big-Alum-1.jpeg
END:VEVENT
BEGIN:VEVENT
DTSTART;TZID=America/New_York:20250712T140000
DTEND;TZID=America/New_York:20250712T160000
DTSTAMP:20260421T002315
CREATED:20250513T223355Z
LAST-MODIFIED:20250520T150442Z
UID:9328-1752328800-1752336000@bigalumlake.org
SUMMARY:BALA - Big Alum Lake Cheers 2025
DESCRIPTION:Big Alum Lake Cheers 2025?\nThink “tie-up”\nBut with a social twist – and prizes! \nHow do I register?\nThe cost to register is $40 PER BOAT. Number of people per boat does not matter. The more people\, the more fun! Dog and kid friendly. Designate a boat team captain and email BigAlumLakeCheers@gmail.com with your captain’s name by June 23 . Mail check payment (Made out to Big Alum Lake Association) to Mari Roy (34 Stoneybrook Road\, Charlton\, MA 01507). If you’d prefer to pay electronically\, you can send registration fee to @RyanSzat1 on Venmo and the money will be transferred to Mari. This event is limited to 20 boats\, so register early! Payment must be made to secure your spot. \n  \n                   
URL:https://bigalumlake.org/event/bala-big-alum-lake-cheers-2025-2/
ATTACH;FMTTYPE=image/jpeg:https://bigalumlake.org/wp-content/uploads/Lake-Cheers-Big-Alum-3.jpeg
END:VEVENT
BEGIN:VEVENT
DTSTART;VALUE=DATE:20250705
DTEND;VALUE=DATE:20250706
DTSTAMP:20260421T002315
CREATED:20250416T170059Z
LAST-MODIFIED:20250614T165300Z
UID:9288-1751673600-1751759999@bigalumlake.org
SUMMARY:BALA 4th of July Events! Rain Date..
DESCRIPTION:Rain Date will be Saturday\, July 5th for BALA 4th of July Events if needed to plan ahead! \n  \nHi BALA…. 4th of July Events Raing Date will be July 5th…Same times if it was help on non-rain date the 4th. \n  \n3pm– BOAT PARADE —  to meet at Trail Beach area \n  \nDusk about 8:30 pm\, Light up those decks to be ready for Light Up the Lake about 9 pm…. \n  \n 
URL:https://bigalumlake.org/event/potential-4th-of-july-events-3/
END:VEVENT
BEGIN:VEVENT
DTSTART;VALUE=DATE:20250704
DTEND;VALUE=DATE:20250705
DTSTAMP:20260421T002315
CREATED:20250416T170010Z
LAST-MODIFIED:20250614T165454Z
UID:9285-1751587200-1751673599@bigalumlake.org
SUMMARY:BALA 4th of July Events!
DESCRIPTION:Rain Date will be Saturday\, July 5th for BALA 4th of July Events if needed to plan ahead! \n  \nHi BALA…. 4th of July Events… \n  \n3pm– BOAT PARADE —  to meet at Trail Beach area \n  \nDusk about 8:30 pm\, Light up those decks to be ready for Light Up the Lake about 9 pm…. \n  \nIf there is a rain date…. it will be July 5th….
URL:https://bigalumlake.org/event/potential-4th-of-july-events-2/
END:VEVENT
BEGIN:VEVENT
DTSTART;VALUE=DATE:20250617
DTEND;VALUE=DATE:20250618
DTSTAMP:20260421T002315
CREATED:20250614T162208Z
LAST-MODIFIED:20250614T163829Z
UID:9353-1750118400-1750204799@bigalumlake.org
SUMMARY:Weed Treatment
DESCRIPTION:Big Alum Lake Poster 6.17.25
URL:https://bigalumlake.org/event/weed-treatment/
ATTACH;FMTTYPE=application/pdf:https://bigalumlake.org/wp-content/uploads/Big-Alum-Lake-Poster-6.17.25-1.pdf
END:VEVENT
BEGIN:VEVENT
DTSTART;VALUE=DATE:20250510
DTEND;VALUE=DATE:20250511
DTSTAMP:20260421T002315
CREATED:20250416T164945Z
LAST-MODIFIED:20250416T173132Z
UID:9280-1746835200-1746921599@bigalumlake.org
SUMMARY:Massachusetts Environmental Police SAFE Boating Course #5146
DESCRIPTION:Massachusetts Environmental Police SAFE Boating Course #5146: \n  \nYou can find the sign up info online at Mass Environmental Police safe boating course #5146.  \n\n\nClasses\n\n\n\n\nClass ID\n5146\n\n\nDate\nMay 10th\n\n\nTime\n8:00 a.m. – 4:30 p.m.\n\n\nLocation\nSturbridge Host Hotel; 366 Main St\, Sturbridge\n\n\nRegister\nOnline\n\n\n\n\n\n\n\n\n\n\n\nBoating safety course schedule – Mass.gov\n\n\n\n\nMass.gov\nhttps://www.mass.gov › info-details › boating-safety-co…\n\n\n\n\n\n\n\n\n-The new Hanson-Milone Safe Boating Act is in force and requires all boat operators to have a safe boating certificate. \n  \n–It does phase in for younger people (born on or after January 1\, 1989) on April 1\, 2026 and those born before January 1\, 1989 have until  April 1\, 2028 to satisfy the boating course requirement.  It can also be taken online as some people have done – with a cost of approx $70 including the course and the certificate. 
URL:https://bigalumlake.org/event/massachusetts-environmental-police-safe-boating-course-5146/
END:VEVENT
BEGIN:VEVENT
DTSTART;TZID=America/New_York:20250429T190000
DTEND;TZID=America/New_York:20250429T200000
DTSTAMP:20260421T002315
CREATED:20250416T164056Z
LAST-MODIFIED:20250416T164056Z
UID:9278-1745953200-1745956800@bigalumlake.org
SUMMARY:BALA All Member ZOOM Meeting 7pm 4/29/25
DESCRIPTION:Topic: BALA All Member Zoom Meeting\nTime: Apr 29\, 2025\, 07:00 PM Eastern Time (US and Canada)\nJoin Zoom Meeting\nhttps://us02web.zoom.us/j/83628375528?pwd=JdIkvHrrNh7VikgfKtLYyba3HU7BDa.1\nMeeting ID: 836 2837 5528\nPasscode: 278043\nEastern Time (US and Canada) \nJoin Zoom Meeting\nhttps://us02web.zoom.us/j/83628375528?pwd=JdIkvHrrNh7VikgfKtLYyba3HU7BDa.1\nMeeting ID: 836 2837 5528\nPasscode: 278043
URL:https://bigalumlake.org/event/bala-all-member-zoom-meeting-7pm-4-29-25/
END:VEVENT
BEGIN:VEVENT
DTSTART;TZID=America/New_York:20240809T183000
DTEND;TZID=America/New_York:20240809T203000
DTSTAMP:20260421T002315
CREATED:20240324T003852Z
LAST-MODIFIED:20241121T020329Z
UID:8686-1723228200-1723235400@bigalumlake.org
SUMMARY:Big Alum Lake\, "Boat/Plane/Kayak/What-Not\, Tie-Up" In The Middle!
DESCRIPTION:Big Alum Lake\, “Tie-UP” in the Middle of the Lake with whatever you have\, Boat\, PWC\, Kayak\, Plane…. \nCome one\, Come all….we would love to see you all… \nTentative Dates: July 12th and August 9th. 
URL:https://bigalumlake.org/event/8686/
END:VEVENT
BEGIN:VEVENT
DTSTART;TZID=America/New_York:20240802T173000
DTEND;TZID=America/New_York:20240802T213000
DTSTAMP:20260421T002315
CREATED:20240209T001045Z
LAST-MODIFIED:20241121T020417Z
UID:8662-1722619800-1722634200@bigalumlake.org
SUMMARY:Big Alum BALA Membership Gala @ Hyland Orchard Pavillion
DESCRIPTION:
URL:https://bigalumlake.org/event/potential-date-for-big-alum-bala-gala/
LOCATION:Hyland Ochard Pavilion
END:VEVENT
BEGIN:VEVENT
DTSTART;VALUE=DATE:20240726
DTEND;VALUE=DATE:20240727
DTSTAMP:20260421T002315
CREATED:20240722T212208Z
LAST-MODIFIED:20241121T020424Z
UID:8800-1721952000-1722038399@bigalumlake.org
SUMMARY:BALA Gala 2024 Invite
DESCRIPTION:BALAGALAinvite2024 \nPlease by July 26th deadline\, print and scan to Barbara Hitchcock”s email: bhlake8@aol.com  or  print and drop off your response to Barbara Hitchcock’s home at 102 Paradise Lane. \nThank You.
URL:https://bigalumlake.org/event/bala-gala-2024-invite/
END:VEVENT
BEGIN:VEVENT
DTSTART;TZID=America/New_York:20240716T080000
DTEND;TZID=America/New_York:20240716T170000
DTSTAMP:20260421T002315
CREATED:20240708T171750Z
LAST-MODIFIED:20241121T020431Z
UID:8753-1721116800-1721149200@bigalumlake.org
SUMMARY:Big Alum Lake Weed Treatment #3\, 7/16/24
DESCRIPTION:Big Alum Lake Weed Treatment\, scheduled for 7/16/2024 \n7-16-24 Big Alum Sign
URL:https://bigalumlake.org/event/big-alum-lake-weed-treatment-3-7-16-24/
END:VEVENT
BEGIN:VEVENT
DTSTART;TZID=America/New_York:20240712T183000
DTEND;TZID=America/New_York:20240712T203000
DTSTAMP:20260421T002315
CREATED:20240324T003032Z
LAST-MODIFIED:20241121T020437Z
UID:8681-1720809000-1720816200@bigalumlake.org
SUMMARY:Big Alum Lake\, "Boat/Plane/Kayak/What-Not\, Tie-Up" In The Middle!
DESCRIPTION:Big Alum Lake\, “Tie-UP” in the Middle of the Lake with whatever you have\, Boat\, PWC\, Kayak\, Plane…. \nCome one\, Come all….we would love to see you all… \nTentative Dates: July 12th and August 9th.  \n 
URL:https://bigalumlake.org/event/tie-up-in-the-middle-of-the-lake/
LOCATION:Big Alum Lake
END:VEVENT
BEGIN:VEVENT
DTSTART;TZID=America/New_York:20240706T203000
DTEND;TZID=America/New_York:20240706T213000
DTSTAMP:20260421T002315
CREATED:20240510T153919Z
LAST-MODIFIED:20241121T020624Z
UID:8713-1720297800-1720301400@bigalumlake.org
SUMMARY:Big Alum Lake\, Tentative Second  Rain Date for Light up the Night (only if needed)
DESCRIPTION:Big Alum Lake\, Tentative Second Rain Date for Light up the Night (only if needed).
URL:https://bigalumlake.org/event/tentative-light-up-the-night/
END:VEVENT
BEGIN:VEVENT
DTSTART;TZID=America/New_York:20240706T150000
DTEND;TZID=America/New_York:20240706T163000
DTSTAMP:20260421T002315
CREATED:20240510T153805Z
LAST-MODIFIED:20241121T020443Z
UID:8711-1720278000-1720283400@bigalumlake.org
SUMMARY:Big Alum Lake\, Tentative Second Rain Date for Boat Parade- meet at the Trail Beach Site
DESCRIPTION:Big Alum Lake\, Tentative Second Rain Date for Boat Parade- meet at the Trail Beach Site….(only if needed)
URL:https://bigalumlake.org/event/tentative-rain-date-for-boat-parade-meet-at-the-trail-beach-site/
END:VEVENT
BEGIN:VEVENT
DTSTART;TZID=America/New_York:20240705T203000
DTEND;TZID=America/New_York:20240705T213000
DTSTAMP:20260421T002315
CREATED:20240529T135451Z
LAST-MODIFIED:20241121T020502Z
UID:8732-1720211400-1720215000@bigalumlake.org
SUMMARY:Big Alum Lake\, Tentative First Rain Date for Light up the Night (only if needed)
DESCRIPTION:Big Alum Lake\, Tentative First Rain Date for Light up the Night (only if needed)
URL:https://bigalumlake.org/event/big-alum-lake-tentative-first-rain-date-for-light-up-the-night-only-if-needed/
LOCATION:Big Alum Lake
END:VEVENT
BEGIN:VEVENT
DTSTART;TZID=America/New_York:20240705T150000
DTEND;TZID=America/New_York:20240705T163000
DTSTAMP:20260421T002315
CREATED:20240529T140004Z
LAST-MODIFIED:20241121T020512Z
UID:8736-1720191600-1720197000@bigalumlake.org
SUMMARY:Big Alum Lake\, Tentative First Rain Date for Boat Parade- meet at the Trail Beach Site....(only if needed)
DESCRIPTION:Big Alum Lake\, Tentative First Rain Date for Boat Parade- meet at the Trail Beach Site….(only if needed)
URL:https://bigalumlake.org/event/big-alum-lake-tentative-first-rain-date-for-boat-parade-meet-at-the-trail-beach-site-only-if-needed/
LOCATION:Big Alum Lake
END:VEVENT
BEGIN:VEVENT
DTSTART;TZID=America/New_York:20240704T203000
DTEND;TZID=America/New_York:20240704T213000
DTSTAMP:20260421T002315
CREATED:20240510T154311Z
LAST-MODIFIED:20241121T020508Z
UID:8716-1720125000-1720128600@bigalumlake.org
SUMMARY:Big Alum Lake: Light up the Night
DESCRIPTION:Get ready and light up those lights…. \nWhen: July 4th; starting after dusk….8:30 pm and after. \nBe safe and Happy 4th of July everyone.
URL:https://bigalumlake.org/event/tentative-light-up-the-night-2/
END:VEVENT
BEGIN:VEVENT
DTSTART;TZID=America/New_York:20240704T150000
DTEND;TZID=America/New_York:20240704T163000
DTSTAMP:20260421T002315
CREATED:20240509T004639Z
LAST-MODIFIED:20241121T020524Z
UID:8700-1720105200-1720110600@bigalumlake.org
SUMMARY:Big Alum Lake\, Boat Parade 3 pm\, meet at the Trail Beach Site
DESCRIPTION:Big Alum Lake\,  Boat Parade 3 pm\, meet at the Trail Beach Site…Decorate those boats!
URL:https://bigalumlake.org/event/tentative-boat-parade-3-pm-meet-at-the-trail-beach-site/
END:VEVENT
BEGIN:VEVENT
DTSTART;TZID=America/New_York:20240615T080000
DTEND;TZID=America/New_York:20240615T170000
DTSTAMP:20260421T002315
CREATED:20240510T153105Z
LAST-MODIFIED:20241121T020519Z
UID:8706-1718438400-1718470800@bigalumlake.org
SUMMARY:Boat Safety Course held at the Sturbridge Host
DESCRIPTION:Boat Safety Course is free and being held at the Sturbridge Host\, more details to follow once they are available.
URL:https://bigalumlake.org/event/boat-safety-course-held-at-the-sturbridge-host/
END:VEVENT
BEGIN:VEVENT
DTSTART;TZID=America/New_York:20240611T080000
DTEND;TZID=America/New_York:20240611T170000
DTSTAMP:20260421T002315
CREATED:20240611T191053Z
LAST-MODIFIED:20241121T020531Z
UID:8745-1718092800-1718125200@bigalumlake.org
SUMMARY:Big Alum Lake\, 2nd Weed Treatment 6/11/24
DESCRIPTION:Big Alum Lake\, 2nd Weed Treatment 6/11/24.  Please refer to handout for water restrictions.
URL:https://bigalumlake.org/event/big-alum-lake-2nd-weed-treatment-6-11-24/
END:VEVENT
BEGIN:VEVENT
DTSTART;TZID=America/New_York:20240521T080000
DTEND;TZID=America/New_York:20240521T200000
DTSTAMP:20260421T002315
CREATED:20240509T004215Z
LAST-MODIFIED:20241121T020537Z
UID:8696-1716278400-1716321600@bigalumlake.org
SUMMARY:First Weed Treatment with Fluoridone (Sonar)
DESCRIPTION:First Weed Treatment with Fluoridone (Sonar) \n 
URL:https://bigalumlake.org/event/first-weed-treatment-with-fluoridone-sonar/
END:VEVENT
BEGIN:VEVENT
DTSTART;TZID=America/New_York:20240510T180000
DTEND;TZID=America/New_York:20240510T220000
DTSTAMP:20260421T002315
CREATED:20240209T004812Z
LAST-MODIFIED:20241121T020545Z
UID:8672-1715364000-1715378400@bigalumlake.org
SUMMARY:Kick off the BALA Membership Season @ Rapscallion
DESCRIPTION:Meet and Greet\, Kick off the BALA Membership Season @ Rapscallion. Hope to see you all there.
URL:https://bigalumlake.org/event/tentative-date-for-kick-off-the-bala-membership-season-rapscallion/
END:VEVENT
BEGIN:VEVENT
DTSTART;VALUE=DATE:20240315
DTEND;VALUE=DATE:20240316
DTSTAMP:20260421T002315
CREATED:20240209T003521Z
LAST-MODIFIED:20241121T020550Z
UID:8668-1710460800-1710547199@bigalumlake.org
SUMMARY:Big Alum Membership Dues are due to Barbara Hitchcock by 3/15/2024. Thank You everyone in advance for your cooperation.
DESCRIPTION:
URL:https://bigalumlake.org/event/big-alum-membership-dues-to-barbara-hitchcock-3-15-2024/
END:VEVENT
END:VCALENDAR